{
"currentVersion": 10.91,
"serviceDescription": "
Purpose: test:202407180638 naip service<\/strong>This service provides the latest NAIP.
Creation Date: <\/strong>2014
Publication Date: <\/strong>2014
Revision Date: <\/strong>20240610
Refresh Cycle: <\/strong>Updated periodically as new USGS NED data is aquired.
Version: <\/strong>1.0.0
Change Log<\/a><\/strong>
Report Service Errors<\/a><\/strong>
",
"name": "naip/conus_naip_cache",
"description": "",
"extent": {
"xmin": -124.62919185099997,
"ymin": 25.809948197555688,
"xmax": -67.87105583209376,
"ymax": 49.06590797200005,
"spatialReference": {
"wkid": 4326,
"latestWkid": 4326
}
},
"initialExtent": {
"xmin": -124.62919185099997,
"ymin": 25.809948197555688,
"xmax": -67.87105583209376,
"ymax": 49.06590797200005,
"spatialReference": {
"wkid": 4326,
"latestWkid": 4326
}
},
"fullExtent": {
"xmin": -124.62919185099997,
"ymin": 25.809948197555688,
"xmax": -67.87105583209376,
"ymax": 49.06590797200005,
"spatialReference": {
"wkid": 4326,
"latestWkid": 4326
}
},
"hasMultidimensions": false,
"pixelSizeX": 5.389891704717128E-6,
"pixelSizeY": 5.389891704717127E-6,
"datasetFormat": "AMD",
"uncompressedSize": 181744930095232,
"blockWidth": 2048,
"blockHeight": 256,
"compressionType": "None",
"bandNames": [
"Band_1",
"Band_2",
"Band_3",
"Band_4"
],
"allowCopy": true,
"allowAnalysis": true,
"bandCount": 4,
"pixelType": "U8",
"minPixelSize": 0,
"maxPixelSize": 0,
"copyrightText": "",
"serviceDataType": "esriImageServiceDataTypeGeneric",
"serviceSourceType": "esriImageServiceSourceTypeMosaicDataset",
"minValues": [],
"maxValues": [],
"meanValues": [],
"stdvValues": [],
"objectIdField": "OBJECTID",
"fields": [
{
"name": "OBJECTID",
"type": "esriFieldTypeOID",
"alias": "OBJECTID",
"domain": null
},
{
"name": "Shape",
"type": "esriFieldTypeGeometry",
"alias": "Shape",
"domain": null
},
{
"name": "Name",
"type": "esriFieldTypeString",
"alias": "Name",
"domain": null,
"length": 200
},
{
"name": "Category",
"type": "esriFieldTypeInteger",
"alias": "Category",
"domain": {
"type": "codedValue",
"name": "MosaicCatalogItemCategoryDomain",
"description": "Catalog item categories.",
"codedValues": [
{
"name": "Unknown",
"code": 0
},
{
"name": "Primary",
"code": 1
},
{
"name": "Overview",
"code": 2
},
{
"name": "Unprocessed Overview",
"code": 3
},
{
"name": "Partial Overview",
"code": 4
},
{
"name": "Inactive",
"code": 5
},
{
"name": "Uploaded",
"code": 253
},
{
"name": "Incomplete",
"code": 254
},
{
"name": "Custom",
"code": 255
}
],
"mergePolicy": "esriMPTDefaultValue",
"splitPolicy": "esriSPTDefaultValue"
}
},
{
"name": "year_ts",
"type": "esriFieldTypeSmallInteger",
"alias": "year_ts",
"domain": null
},
{
"name": "ST",
"type": "esriFieldTypeString",
"alias": "ST",
"domain": null,
"length": 10
},
{
"name": "QQNAME",
"type": "esriFieldTypeString",
"alias": "QQNAME",
"domain": null,
"length": 50
},
{
"name": "QQDATE",
"type": "esriFieldTypeDate",
"alias": "QQDATE",
"domain": null,
"length": 8
},
{
"name": "iDate_ts",
"type": "esriFieldTypeDate",
"alias": "iDate_ts",
"domain": null,
"length": 8
}
],
"capabilities": "Catalog,Mensuration,Image,Metadata",
"defaultMosaicMethod": "Northwest",
"allowedMosaicMethods": "NorthWest,Center,LockRaster,ByAttribute,Nadir,Viewpoint,Seamline,None",
"sortField": "",
"sortValue": null,
"sortAscending": true,
"mosaicOperator": "First",
"maxDownloadSizeLimit": 2048,
"defaultCompressionQuality": 75,
"defaultResamplingMethod": "Bilinear",
"maxImageHeight": 4100,
"maxImageWidth": 15000,
"maxRecordCount": 1000,
"maxDownloadImageCount": 20,
"maxMosaicImageCount": 20,
"allowRasterFunction": true,
"rasterFunctionInfos": [
{
"name": "None",
"description": "Make a Raster or Raster Dataset into a Function Raster Dataset.",
"help": ""
}
],
"rasterTypeInfos": [
{
"name": "Raster Dataset",
"description": "Supports all ArcGIS Raster Datasets",
"help": ""
}
],
"mensurationCapabilities": "Basic",
"hasHistograms": false,
"hasColormap": false,
"hasRasterAttributeTable": false,
"minScale": 0,
"maxScale": 0,
"exportTilesAllowed": false,
"supportsStatistics": true,
"supportsAdvancedQueries": true,
"editFieldsInfo": null,
"ownershipBasedAccessControlForRasters": null,
"allowComputeTiePoints": false,
"useStandardizedQueries": true,
"advancedQueryCapabilities": {
"useStandardizedQueries": true,
"supportsStatistics": true,
"supportsOrderBy": true,
"supportsDistinct": true,
"supportsPagination": true
},
"spatialReference": {
"wkid": 4326,
"latestWkid": 4326
}
}