View In:
ArcGIS JavaScript
ArcGIS Online Map Viewer
ArcGIS Earth
ArcMap
View Footprint In:
ArcGIS Online Map Viewer
Service Description: Purpose: test:202407180638 naip serviceThis service provides the latest NAIP.
Creation Date: 2014
Publication Date: 2014
Revision Date: 20240610
Refresh Cycle: Updated periodically as new USGS NED data is aquired.
Version: 1.0.0
Change LogReport Service Errors
Name: naip/conus_naip_cache
Description:
Single Fused Map Cache: false
Extent:
XMin: -124.62919185099997
YMin: 25.809948197555688
XMax: -67.87105583209376
YMax: 49.06590797200005
Spatial Reference: 4326
(4326)
LatestVCSWkid(0)
Initial Extent:
XMin: -124.62919185099997
YMin: 25.809948197555688
XMax: -67.87105583209376
YMax: 49.06590797200005
Spatial Reference: 4326
(4326)
LatestVCSWkid(0)
Full Extent:
XMin: -124.62919185099997
YMin: 25.809948197555688
XMax: -67.87105583209376
YMax: 49.06590797200005
Spatial Reference: 4326
(4326)
LatestVCSWkid(0)
Pixel Size X: 5.389891704717128E-6
Pixel Size Y: 5.389891704717127E-6
Band Count: 4
Pixel Type: U8
RasterFunction Infos: {"rasterFunctionInfos": [{
"name": "None",
"description": "Make a Raster or Raster Dataset into a Function Raster Dataset.",
"help": ""
}]}
Mensuration Capabilities: Basic
Has Histograms: false
Has Colormap: false
Has Multi Dimensions : false
Rendering Rule:
Min Scale: 0
Max Scale: 0
Copyright Text:
Service Data Type: esriImageServiceDataTypeGeneric
Min Values: N/A
Max Values: N/A
Mean Values: N/A
Standard Deviation Values: N/A
Object ID Field: OBJECTID
Fields:
-
OBJECTID
(
type: esriFieldTypeOID, alias: OBJECTID
)
-
Shape
(
type: esriFieldTypeGeometry, alias: Shape
)
-
Name
(
type: esriFieldTypeString, alias: Name, length: 200
)
-
Category
(
type: esriFieldTypeInteger, alias: Category
, Coded Values:
[0: Unknown]
, [1: Primary]
, [2: Overview]
, ...6 more...
)
-
year_ts
(
type: esriFieldTypeSmallInteger, alias: year_ts
)
-
ST
(
type: esriFieldTypeString, alias: ST, length: 10
)
-
QQNAME
(
type: esriFieldTypeString, alias: QQNAME, length: 50
)
-
QQDATE
(
type: esriFieldTypeDate, alias: QQDATE, length: 8
)
-
iDate_ts
(
type: esriFieldTypeDate, alias: iDate_ts, length: 8
)
Default Mosaic Method: Northwest
Allowed Mosaic Methods: NorthWest,Center,LockRaster,ByAttribute,Nadir,Viewpoint,Seamline,None
SortField:
SortValue: null
Mosaic Operator: First
Default Compression Quality: 75
Default Resampling Method: Bilinear
Max Record Count: 1000
Max Image Height: 4100
Max Image Width: 15000
Max Download Image Count: 20
Max Mosaic Image Count: 20
Allow Raster Function: true
Allow Copy: true
Allow Analysis: true
Allow Compute TiePoints: false
Supports Statistics: true
Supports Advanced Queries: true
Use StandardizedQueries: true
Raster Type Infos:
Name: Raster Dataset
Description: Supports all ArcGIS Raster Datasets
Help:
Has Raster Attribute Table: false
Edit Fields Info: null
Ownership Based AccessControl For Rasters: null
Child Resources:
Info
Statistics
Key Properties
Legend
Raster Function Infos
Supported Operations:
Export Image
Query
Identify
Measure
Compute Histograms
Compute Statistics Histograms
Get Samples
Compute Class Statistics
Query Boundary
Compute Pixel Location
Compute Angles
Validate
Project